BEGIN:VCALENDAR
VERSION:2.0
PRODID:SFPL Web Calendar
BEGIN:VEVENT
UID:31503@sfpl.org
DTSTAMP:20210622T180000Z
DTSTART:20210622T180000Z
DTEND:20210622T190000Z
SUMMARY:運用示範: Google Docs
DESCRIPTION:<p>學習如何運用網上文書處理應用程式&nbsp;Google Docs 的基礎知識。主講題目會涵蓋並包括瀏覽平台、文檔格式、轉換 Microsoft Word 文檔、保存文檔、與其他用戶協同合作等。Google Docs 是一款具生產力及免費網上套件中的文書處理器。</p>

LOCATION:Virtual Library
CLASS:PUBLIC
TRANSP:TRANSPARENT
END:VEVENT
BEGIN:VALARM
TRIGGER:-PT1440M
ACTION:DISPLAY
DESCRIPTION:Event Reminder - 運用示範: Google Docs
END:VALARM
END:VCALENDAR