BEGIN:VCALENDAR
VERSION:2.0
PRODID:SFPL Web Calendar
BEGIN:VEVENT
UID:31530@sfpl.org
DTSTAMP:20211019T170000Z
DTSTART:20211019T170000Z
DTEND:20211019T180000Z
SUMMARY:由 Reference Solutions 資料庫提供針對零售業務的參考解決方案
DESCRIPTION:<p>參考有關您所在社區或針對全國其他企業或消費者的資料，發展您的零售業務。</p>

<p>由客服代表 Bill Carlson 以英語主講<a href="mailto:Bill.Carlson@data-axle.com">電郵</a>&nbsp;</p>

LOCATION:Virtual Library
CLASS:PUBLIC
TRANSP:TRANSPARENT
END:VEVENT
BEGIN:VALARM
TRIGGER:-PT1440M
ACTION:DISPLAY
DESCRIPTION:Event Reminder - 由 Reference Solutions 資料庫提供針對零售業務的參考解決方案
END:VALARM
END:VCALENDAR