BEGIN:VCALENDAR
VERSION:2.0
PRODID:SFPL Web Calendar
BEGIN:VEVENT
UID:31569@sfpl.org
DTSTAMP:20210722T200000Z
DTSTART:20210722T200000Z
DTEND:20210722T204500Z
SUMMARY:作家楊謹倫 Gene Luen Yang
DESCRIPTION:<p>全國各地的運動賽季都被取消，但體育所傳承下來的價值觀比以往任何時候都更為重要。屢獲殊榮的漫畫家楊謹倫 Gene Luen Yang 會談及令他成為一名體育迷的最新漫畫小說《龍圈》(<a href="https://sfpl.bibliocommons.com/item/show/3920074093">Dragon Hoops</a>) 的寫作和繪畫。<em>Dragon Hoops</em> 講述了來自加州屋崙市高中籃球隊 Bishop O'Dowd Dragons 的真實故事。 適合 12 歲及以上人士。</p>

<p>&nbsp;</p>

<p><strong>YouTube 現場直播</strong></p>

<p>&nbsp;</p>

<p><strong>關於&nbsp;<a href="https://sfpl.bibliocommons.com/item/show/3920074093"><em>龍圈 Dragon Hoops</em></a>: </strong>楊謹倫明白如果故事 (特別是漫畫故事) 越多大動作便越加刺激。 而且英雄總是勝利。但楊謹倫不大認識運動。小時候，他的朋友稱他為「樹支」，他打的每一場籃球比賽都以痛苦告終。男子大學隊 - 龍隊，正在經歷一個非凡的賽季，這個賽季已經醞釀了幾十年。當楊謹倫 Gene 了解了這些年輕的隊中明星，他就意識到他們的故事和漫畫書頁內看到的任何故事一樣激動人心。他還不知道的是，這個賽季不僅會改變龍隊的生活，也會改變他自己的生活。</p>

<p>&nbsp;</p>

<p><strong>楊謹倫 Gene Luen Yang</strong> 寫作並有時繪畫漫畫書和漫畫小說。作為美國國會圖書館第五屆全國青年文學大使，他倡導閱讀的重要性，尤其是多元化閱讀。<a href="https://sfpl.bibliocommons.com/item/show/2462708093"><em>美生華人 American Born Chinese</em></a>&nbsp;是他的第一部漫畫小說《First Second Books》，曾入圍國家圖書獎 (National Book Award) 決賽，並獲得了普林茨獎 (Printz Award) 和艾斯納獎 (Eisner Award)。他的雙冊圖畫小說《<a href="https://sfpl.bibliocommons.com/item/show/2653427093">拳擊手與聖徒 Boxers &amp; Saints</a>》獲得了洛杉磯時報圖書獎，並入圍了國家圖書獎決賽。他的其他作品包括 <em><a href="https://sfpl.bibliocommons.com/v2/search?query=secret+coders&amp;searchType=smart">Secret Coders</a></em>（與 Mike Holmes 合作）、<a href="https://sfpl.bibliocommons.com/item/show/2779950093"><em>The Shadow Hero</em></a>（與 Sonny Liew 合作）、由 DC Comics 出版的 <a href="https://sfpl.bibliocommons.com/v2/search?query=New+Super-Man&amp;searchType=smart"><em>New Super-Man</em></a>（與不同藝術家合作）以及 Dark Horse Comics 出版的 <a href="https://sfpl.bibliocommons.com/item/show/4761021093"><em>Avatar: The Last Airbender</em></a> 系列（與 Gurihiru 合作）。在 2016 年，他被任命為麥克阿瑟基金會 (MacArthur Foundation) 研究員。</p>

<p><br />
與楊謹倫 Gene Luen Yang 連結: <a href="https://www.facebook.com/GeneLuenYang/">Facebook</a> | <a href="https://www.instagram.com/geneluenyang/">Instagram</a> | <a href="https://twitter.com/geneluenyang?ref_src=twsrc%5Egoogle%7Ctwcamp%5Eserp%7Ctwgr%5Eauthor">Twitter</a></p>

LOCATION:Virtual Library
CLASS:PUBLIC
TRANSP:TRANSPARENT
END:VEVENT
BEGIN:VALARM
TRIGGER:-PT1440M
ACTION:DISPLAY
DESCRIPTION:Event Reminder - 作家楊謹倫 Gene Luen Yang
END:VALARM
END:VCALENDAR