BEGIN:VCALENDAR
VERSION:2.0
PRODID:SFPL Web Calendar
BEGIN:VEVENT
UID:31578@sfpl.org
DTSTAMP:20210727T233000Z
DTSTART:20210727T233000Z
DTEND:20210728T001500Z
SUMMARY:工作坊:  Alphabet Rockers 的創意俱樂部 (Creative Club)
DESCRIPTION:<p>Alphabet Rockers 誠邀請您進入此專為年輕變革者 (藝術家、社區活躍人士、思想家和製造者) 打造的數碼空間&nbsp;- 走在一起，創造藝術。在創意俱樂部 (Creative Club) 總監 Marjorie Ortiz 及&nbsp;Samara Atkins 的推動下，並以 Youth Rockers 滾樂隊的 Lily Ellis、Maya Fleming、Kali de Jesus 及&nbsp;Tommy Shepherd III 的反思為特色，於社區內聚集在一起進行引人入勝的音樂、運動和藝術活動，以創造有意義的變革 ~ 世上無難事，只怕有愛人！讓我們以愛擁抱！從 Alphabet Rockers 身上體驗開創性的反種族主義課程:「我們有很多事情可做。」適合 7 歲及以上的兒童及其家人。</p>

<p>&nbsp;</p>

<p><strong><em>Alphabet Rockers</em></strong><em> 用音樂作出改變。</em>我們的家需要有治癒能力的內容，反映我們是誰及賦予的權力 — 包括解放黑人和酷兒、土著權利、移民權利和交叉包容性。 Alphabet Rockers 與社區一起策劃此內容，以兒童的聲音為中心。我們放大真實的故事並打破讓我們來到此處的模式。 見證我們如何完成這項集體工作 — 與我們體現的真正變革。</p>

<p>這個跨代團體由 Kaitlin McGaw（她/她）和 Tommy Shepherd（他/他/他們）創立，創造了勇敢的空間，通過嘻哈 (Hip Hop) 來塑造一個更公平的世界。 他們獲得格萊美提名的 2018 年專輯《Rise Shine #Woke》自發行以來已惠及三十萬名兒童和家庭，激勵美國兒童勇敢地面對仇恨並成為二個勇敢美麗的自己。他們的第二張格萊美提名專輯 The Love（2019 年）提升了跨性別、雙重精神和不定性別的社區的聲音。在 The Love 專輯內，您會聽到 Rockers 的代際之聲，包括 Kali de Jesus（他/他）、Lillian Ellis（她/她/她）、Maya Fleming（她/她）和 Tommy Shepherd III（他/他） 加入 McGaw 和 Shepherd 的變革國歌。</p>

<p>每年在 Lollapalooza、甘迺迪中心 (The Kennedy Center)、三藩市同志驕傲節、藝術與靈魂節 (Art &amp; Soul Festival) 和史密夫森尼美國非裔人歷史和文化博物館 (Smithsonian Museum of African Amrrican History and Culture) 以及全國 50 多所學校進行頭條新聞式的表演，不同的觀眾喜歡他們的當代聲音和積極信息。他們在 2018/2020 年獲得格萊美獎提名，在 2017 年、2018 年和 2019 年獲得美國圖書館協會最佳專輯獎，並憑藉 5 個專輯獲得了家長選擇獎。Alphabet Rockers 以「我會為你挺身而出」和「我在美麗的肌膚中閃耀」等歌詞吸引了廣大觀眾，使它們登上了 Kids Place Live SiriusXM 電台 2018 年的音樂榜前 5 名歌曲。他們的音樂、視頻、音樂會和課程由反偏見思想領袖、教育工作者、藝術家、父母和所有性別的年輕人組成的跨文化團隊設計。</p>

<p>與 Alphabet Rockers 連結: <a href="https://www.alphabetrockers.com/">網址 Website</a> | <a href="https://www.facebook.com/alphabetrockers">臉書 Facebook</a> | <a href="https://www.instagram.com/alphabetrockers/">Instagram</a> | <a href="https://twitter.com/alphabetrockers">Twitter</a></p>

<p>&nbsp;</p>

LOCATION:Virtual Library
CLASS:PUBLIC
TRANSP:TRANSPARENT
END:VEVENT
BEGIN:VALARM
TRIGGER:-PT1440M
ACTION:DISPLAY
DESCRIPTION:Event Reminder - 工作坊:  Alphabet Rockers 的創意俱樂部 (Creative Club)
END:VALARM
END:VCALENDAR