BEGIN:VCALENDAR
VERSION:2.0
PRODID:SFPL Web Calendar
BEGIN:VEVENT
UID:31798@sfpl.org
DTSTAMP:20210701T020000Z
DTSTART:20210701T020000Z
DTEND:20210701T033000Z
SUMMARY:寫作吧！必不可少的真理 (Essential Truths) 
DESCRIPTION:<p>與 Write Now SF 一起以第四本收錄了一百三十位有色人種&nbsp;(BIPOC) 作家和藝術家，反映了灣區現實的散文、詩歌和視覺藝術的選集，向我們的時代作出回應。<br />
<br />
​大流行和其間所發生的事成為了對我們生命每一根纖維的考驗，動搖了與家庭、社區、國家和地球本身的關係。 隨著我們對生活的基本假設一次又一次地被顛覆，究竟還有那些必不可少的真理？由 Kim Shuck、Shizue Seigel、An Bui、Andre Le Monte Wilson、Christl&nbsp;&nbsp;Perkins、Dena Rod、Francee Covington、Karla Brundage、Kevin Madrigal、Lina Begonia、Lorraine Bonner、Mihee Kim、Tehmina Khan、Yeva Johnson、Vanessa Cabrera 與&nbsp;Venus Zahura Noble 聯合呈獻。</p>

<h3><a href="https://youtu.be/iXc2Z7SxAzQ"><strong>YouTube 現場直播</strong></a></h3>

<p>與 Write Now SF 聯繫 - <a href="https://www.writenowsf.com/about-write-now">網址 Website</a> | <a href="https://www.facebook.com/WriteNowSF/">臉書 Facebook</a></p>

LOCATION:Virtual Library
CLASS:PUBLIC
TRANSP:TRANSPARENT
END:VEVENT
BEGIN:VALARM
TRIGGER:-PT1440M
ACTION:DISPLAY
DESCRIPTION:Event Reminder - 寫作吧！必不可少的真理 (Essential Truths) 
END:VALARM
END:VCALENDAR