BEGIN:VCALENDAR
VERSION:2.0
PRODID:SFPL Web Calendar
BEGIN:VEVENT
UID:31828@sfpl.org
DTSTAMP:20210628T210000Z
DTSTART:20210628T210000Z
DTEND:20210628T211500Z
SUMMARY:Activity: Fireworks in a Jar Challenge
DESCRIPTION:<p>Can you make your own water based explosions? Learn more about density by creating your own fireworks in a jar. Gather a jar or glass, vegetable oil, warm water and some food coloring for this illuminating challenge with Librarian Davey.</p>

<p>Tune in to SFPL YouTube or Facebook.</p>

<p><a href="http://sfpl.org/stemchallenge">STEM Challenge Yo’Self</a> is created by the San Francisco Public Library from the Youth Librarian STEM team. Stay STEM-tastic by reading, learning and experimenting at home. Gather materials for a new challenge posted weekly at 2pm on Mondays followed by a Live STEM Zoom Lab with SFPL on Tuesdays at 2pm.&nbsp;</p>

LOCATION:Virtual Library
CLASS:PUBLIC
TRANSP:TRANSPARENT
END:VEVENT
BEGIN:VALARM
TRIGGER:-PT1440M
ACTION:DISPLAY
DESCRIPTION:Event Reminder - Activity: Fireworks in a Jar Challenge
END:VALARM
END:VCALENDAR