BEGIN:VCALENDAR
VERSION:2.0
PRODID:SFPL Web Calendar
BEGIN:VEVENT
UID:31842@sfpl.org
DTSTAMP:20210727T210000Z
DTSTART:20210727T210000Z
DTEND:20210727T220000Z
SUMMARY:Demonstration: Shaving Cream Rain Clouds Challenge
DESCRIPTION:<p>Join Librarian Kimberly for a rainy challenge and learn about the water cycle. Gather a jar, shaving cream, food coloring, water, a clear pitcher, 3 small bowls, and three eye droppers or 1/4 teaspoon measuring spoon.</p>

<p>Live STEM Lab with SFPL is created by the <a href="http://sfpl.org/stemchallenge">STEM Challenge Yo’Self</a>&nbsp;Youth Librarian team. Bring your questions and share your work.</p>

<p>Stay STEM-tastic by reading, learning and experimenting at home. Gather materials for a new challenge posted weekly on Mondays at 2pm. Then, register for a Live STEM Lab with SFPL on Tuesdays at 2pm.&nbsp;</p>

LOCATION:Virtual Library
CLASS:PUBLIC
TRANSP:TRANSPARENT
END:VEVENT
BEGIN:VALARM
TRIGGER:-PT1440M
ACTION:DISPLAY
DESCRIPTION:Event Reminder - Demonstration: Shaving Cream Rain Clouds Challenge
END:VALARM
END:VCALENDAR