BEGIN:VCALENDAR
VERSION:2.0
PRODID:SFPL Web Calendar
BEGIN:VEVENT
UID:31847@sfpl.org
DTSTAMP:20210727T170000Z
DTSTART:20210727T170000Z
DTEND:20210727T183000Z
SUMMARY:項目管理職業:  這是否適合我？
DESCRIPTION:<p>項目管理 (Project management) 是當今就業市場上最受追捧的技能之一。例如 2018 年便有超過 5 萬個項目經理職位。 此外，許多工作將項目管理列為一項關鍵技能。在申請工作時，如能展示項目管理技能會令您鶴立雞群。最後，許多人其實都是項目經理，即使這不是他們的頭銜或工作的一部分。</p>

<p>是次講座會介紹日常項目管理的情況、有效領導項目所需的技能以及重要的項目管理認證，例如項目管理專家或大師認證 (Certified Scrum Master)。 還會解釋轉變為項目經理的常見策略。</p>

<p>Tim&nbsp;Bombosch&nbsp;是一名認證項目管理專家 (PMP) 和大師&nbsp;(Scrum Master)，擁有 15 年以上從事醫療保健、技術、生命科學、高等教育、出版和公用事業組織管理項目的經驗。他在加州大學栢克萊分校教授項目管理超過 10 年，在那裡他主理敏捷和項目管理 (Agile and Project Management)&nbsp;專業教育項目 3 年。Tim 認真對待他作為職業教練的角色。在栢克萊，他定期舉辦與作為職業的項目管理相關的研討會，並且經常編寫和教授與職業管理相關的課程。&nbsp;</p>

<p>Tim 在史丹福大學獲得博士學位，在德州大學奧斯汀分校獲得學士學位。他與家人在灣區居住了 30 多年。</p>

LOCATION:Virtual Library
CLASS:PUBLIC
TRANSP:TRANSPARENT
END:VEVENT
BEGIN:VALARM
TRIGGER:-PT1440M
ACTION:DISPLAY
DESCRIPTION:Event Reminder - 項目管理職業:  這是否適合我？
END:VALARM
END:VCALENDAR