BEGIN:VCALENDAR
VERSION:2.0
PRODID:SFPL Web Calendar
BEGIN:VEVENT
UID:31890@sfpl.org
DTSTAMP:20210729T020000Z
DTSTART:20210729T020000Z
DTEND:20210729T030000Z
SUMMARY:霓虹、火柴盒、排版
DESCRIPTION:<p>來一次穿越世紀中葉，遊走三藩市夜生活，包括火柴盒和霓虹燈等標誌性設計及排版的探索之旅。復古火柴盒面和歷史悠久的霓虹燈招牌代表了小商業的引人入勝，也是我們透過物質文化探索紙醉金迷過去的一扇窗。本節目由&nbsp;<a href="https://letterformarchive.org/">Letter Form Aarchive</a> 的 Stephen Coles、田德隆博物館的 Katie Conry 以及三藩市霓虹&nbsp;(<a href="https://avanan.url-protection.com/v1/url?o=http%3A//sfneon.org&amp;g=MDczYmIzNDY0ZTExZWMzNA==&amp;h=MTA4MWY2NWUzNzI5NTcxZTY5MjJhOWIyMDBjYTVkZGU2OWQ0ZjFkZmQ2ZWM2NmY3NTk4NjFiNDdhOTFiMjM3MA==&amp;p=YXAzOnNmZHQyOmF2YW5hbjpvOjJiZjhjZmE4MWViNDk1YTE5ODg4NDM0NzE3ZDAzNDM0OnYx">SF Neon</a>) 的 Al Barna 和 Randall Ann Homan 主持。準備好進入與傳統商業和霓虹燈標誌相關及以獨特字母形式和火柴盒設計的世界。</p>

<h3><strong><a href="https://youtu.be/b5orBS2sTgo">YouTube 現場直播</a></strong><br />
&nbsp;</h3>

<p>連結</p>

<p>三藩市霓虹 (San Francisco Neon) - <a href="https://sfneon.org/">網址 Website</a> | <a href="https://www.instagram.com/sfneonbook/">Instagram</a> | <a href="https://twitter.com/sfneonbook">Twitter</a> | <a href="https://www.facebook.com/sfneon.org/">Facebook</a> | <a href="https://sfneon.org/">YouTube</a></p>

<p>田德隆博物館 (Tenderloin Museum) - <a href="http://www.tenderloinmuseum.org/">網址 Website</a> | <a href="http://instagram.com/tenderloinmuseum">Instagram</a> |<a href="https://twitter.com/TLMuseumSF">Twitter</a> | <a href="http://www.facebook.com/tenderloinmuseum">Facebook</a>&nbsp;</p>

<p>Letterform 檔案 - <a href="https://letterformarchive.org/">網址 Website</a> | <a href="http://instagram.com/letterformarchive">Instagram</a> | <a href="https://twitter.com/Lett_Arc">Twitter</a> | <a href="https://www.facebook.com/letterformarchive">Facebook</a></p>

LOCATION:Virtual Library
CLASS:PUBLIC
TRANSP:TRANSPARENT
END:VEVENT
BEGIN:VALARM
TRIGGER:-PT1440M
ACTION:DISPLAY
DESCRIPTION:Event Reminder - 霓虹、火柴盒、排版
END:VALARM
END:VCALENDAR