BEGIN:VCALENDAR
VERSION:2.0
PRODID:SFPL Web Calendar
BEGIN:VEVENT
UID:31945@sfpl.org
DTSTAMP:20210714T210000Z
DTSTART:20210714T210000Z
DTEND:20210714T220000Z
SUMMARY:Presentation: Know Your Rights - Medicare and Covered California Eligibility
DESCRIPTION:<p>Learn about eligibility requirements for Medi-Cal (Medicaid), Medicare and Covered California.</p>

<p>Led by health access attorneys from <a href="https://baylegal.org/what-we-do/health-care/health-care-access/">Bay Area Legal Aid’s Health Consumer Center</a>. If you cannot attend the presentation, but have a health access related question, please call the Health Consumer Center Free Advice Line: (855) 693-7285.</p>

<p>Connect with Bay Area Legal Aid -&nbsp;<a href="https://baylegal.org/">Website</a>&nbsp;|&nbsp;<a href="https://www.facebook.com/bayarealegalaid/">Facebook</a>&nbsp;|&nbsp;<a href="https://twitter.com/baylegaljustice">Twitter</a>&nbsp;</p>

LOCATION:Virtual Library
CLASS:PUBLIC
TRANSP:TRANSPARENT
END:VEVENT
BEGIN:VALARM
TRIGGER:-PT1440M
ACTION:DISPLAY
DESCRIPTION:Event Reminder - Presentation: Know Your Rights - Medicare and Covered California Eligibility
END:VALARM
END:VCALENDAR