BEGIN:VCALENDAR
VERSION:2.0
PRODID:SFPL Web Calendar
BEGIN:VEVENT
UID:31980@sfpl.org
DTSTAMP:20210919T210000Z
DTSTART:20210919T210000Z
DTEND:20210919T230000Z
SUMMARY:Celebration: Before Columbus Foundation 42nd Annual American Book Award
DESCRIPTION:<p>The Before Columbus Foundation recognizes the winners of the 42nd Annual American Book Awards. The American Book Awards were created to provide recognition for outstanding literary achievement from the entire spectrum of America’s diverse literary community, honoring excellence in American Literature without restriction to race, sec, ethnic background or genre.&nbsp;</p>

<p><br />
Connect with the Before Columbus Foundation - <a href="http://www.beforecolumbusfoundation.com/">Website</a> | <a href="https://www.facebook.com/beforecolumbusfoundation">Facebook</a></p>

LOCATION:Virtual Library
CLASS:PUBLIC
TRANSP:TRANSPARENT
END:VEVENT
BEGIN:VALARM
TRIGGER:-PT1440M
ACTION:DISPLAY
DESCRIPTION:Event Reminder - Celebration: Before Columbus Foundation 42nd Annual American Book Award
END:VALARM
END:VCALENDAR