BEGIN:VCALENDAR
VERSION:2.0
PRODID:SFPL Web Calendar
BEGIN:VEVENT
UID:32007@sfpl.org
DTSTAMP:20210804T200000Z
DTSTART:20210804T200000Z
DTEND:20210804T210000Z
SUMMARY:Presentation: Emergency Rental Assistance
DESCRIPTION:<p>San Francisco's <a href="https://sf.gov/renthelp">Emergency Rental Assistance Program</a> could provide up to six months of rent help. Staff from the <a href="https://sf.gov/departments/mayors-office-housing-and-community-development">Mayor's Office of Housing and Community Development</a> will explain how it&nbsp;works and how to get started.&nbsp;</p>

<p>&nbsp;</p>

LOCATION:Virtual Library
CLASS:PUBLIC
TRANSP:TRANSPARENT
END:VEVENT
BEGIN:VALARM
TRIGGER:-PT1440M
ACTION:DISPLAY
DESCRIPTION:Event Reminder - Presentation: Emergency Rental Assistance
END:VALARM
END:VCALENDAR