BEGIN:VCALENDAR
VERSION:2.0
PRODID:SFPL Web Calendar
BEGIN:VEVENT
UID:32089@sfpl.org
DTSTAMP:20211116T230000Z
DTSTART:20211116T230000Z
DTEND:20211117T000000Z
SUMMARY:Learn: ESL Convo Club
DESCRIPTION:<p>Practice speaking English in a friendly group setting.<br />
We meet every Tuesdays through December 14th.<br />
(No session on October 12th and November 23rd)<br />
All levels are welcome.<br />
Register once and attend any or all sessions.</p>

LOCATION:Virtual Library
CLASS:PUBLIC
TRANSP:TRANSPARENT
END:VEVENT
BEGIN:VALARM
TRIGGER:-PT1440M
ACTION:DISPLAY
DESCRIPTION:Event Reminder - Learn: ESL Convo Club
END:VALARM
END:VCALENDAR