BEGIN:VCALENDAR
VERSION:2.0
PRODID:SFPL Web Calendar
BEGIN:VEVENT
UID:32376@sfpl.org
DTSTAMP:20211117T180000Z
DTSTART:20211117T180000Z
DTEND:20211117T200000Z
SUMMARY:中文科技漫談及協助
DESCRIPTION:<p>逢周三早上10時至中午12時來談談科技技能。&nbsp;</p>

<p>有老師示範不同科技技能，之後老師們來協助您的電腦，平板，手機疑問。&nbsp;</p>

<p>&nbsp;</p>

<p>Meets every Wednesday from 10-12 to&nbsp;learn&nbsp;about&nbsp;technology&nbsp;in&nbsp;Mandarin and Cantonese.&nbsp;</p>

<p>There will be time after instruction to&nbsp;get help&nbsp;with&nbsp;your&nbsp;laptop, tablet,&nbsp;and mobile devices.&nbsp;</p>

LOCATION:Main Library - Computer Training Center - 5th Fl
CLASS:PUBLIC
TRANSP:TRANSPARENT
END:VEVENT
BEGIN:VALARM
TRIGGER:-PT1440M
ACTION:DISPLAY
DESCRIPTION:Event Reminder - 中文科技漫談及協助
END:VALARM
END:VCALENDAR