BEGIN:VCALENDAR
VERSION:2.0
PRODID:SFPL Web Calendar
BEGIN:VEVENT
UID:32466@sfpl.org
DTSTAMP:20221111T020000Z
DTSTART:20221111T020000Z
DTEND:20221111T031500Z
SUMMARY:Performance: Kim Shuck's Poem Jam & Book Release
DESCRIPTION:<p>San Francisco Poet Laureate emerita <a href="https://sfpl.bibliocommons.com/v2/search?custom_edit=false&query=contributor%3A%28shuck%2C+kim%29&searchType=bl&suppress=true">Kim Shuck</a> and special guests celebrate the release of Kim Shuck and LisaRuth Elliott's new collaborative book, <em>What Unseen Thing Blows Wishes Across My Surface?</em></p>

<p><a href="https://sfpl.bibliocommons.com/v2/search?custom_edit=false&query=contributor%3A%28shuck%2C+kim%29&searchType=bl&suppress=true"><strong><u>Kim Shuck</u></strong></a> was San Francisco&rsquo;s seventh Poet Laureate. Her poetry draws on her multiethnic background which includes Polish and Cherokee heritage, and her experiences as a lifelong resident of San Francisco. Her most recent book of poetry,<a href="https://sfpl.bibliocommons.com/v2/record/S93C4964985"> <em><u>Exile Heart</u></em></a>, was published in 2021 by That Painted Horse Press. In her term as Poet Laureate, she hosted scores of free poetry and art workshops for all ages at neighborhood libraries and schools and worked closely with San Francisco Public Library and the San Francisco Arts Commission to launch major citywide initiatives to honor Native American Indigenous People&rsquo;s heritage.</p>

<p>This program is related to the exhibit <a href="https://sfpl.org/exhibits/2022/11/05/what-unseen-thing-blows-wishes-across-my-surface"><em>What unseen thing blows wishes across my surface?</em></a>, on view on the 6th floor of the Main Library, November 5, 2022 &ndash; February 16, 2023.</p>

<p>The&nbsp;book, program and exhibition are funded by the San Francisco Arts Commission.</p>
LOCATION:Main Library - Latino/Hispanic Meeting Room A
CLASS:PUBLIC
TRANSP:TRANSPARENT
END:VEVENT
BEGIN:VALARM
TRIGGER:-PT1440M
ACTION:DISPLAY
DESCRIPTION:Event Reminder - Performance: Kim Shuck's Poem Jam & Book Release
END:VALARM
END:VCALENDAR