BEGIN:VCALENDAR
VERSION:2.0
PRODID:SFPL Web Calendar
BEGIN:VEVENT
UID:32843@sfpl.org
DTSTAMP:20211109T190000Z
DTSTART:20211109T190000Z
DTEND:20211109T191500Z
SUMMARY:Storytime: Sweet Stories for Families
DESCRIPTION:<p>Stories and songs for children and their families.</p>

<p><br />
Tune in on&nbsp;<strong><a href="http://www.facebook.com/sfpl.org">Facebook</a></strong>.</p>

<p>Tip: You do not need a Facebook account to view a presentation when using the link, you can close the pop-up windows.</p>

<p>&nbsp;</p>

LOCATION:Virtual Library
CLASS:PUBLIC
TRANSP:TRANSPARENT
END:VEVENT
BEGIN:VALARM
TRIGGER:-PT1440M
ACTION:DISPLAY
DESCRIPTION:Event Reminder - Storytime: Sweet Stories for Families
END:VALARM
END:VCALENDAR