BEGIN:VCALENDAR
VERSION:2.0
PRODID:SFPL Web Calendar
BEGIN:VEVENT
UID:32923@sfpl.org
DTSTAMP:20211109T020000Z
DTSTART:20211109T020000Z
DTEND:20211109T040000Z
SUMMARY:Workshop: The Hatchery, Nurturing Writers of Color
DESCRIPTION:<p>Free monthly writing workshop providing a safe, supportive space for self-identified writers of color to explore race, class, culture, gender and identity. We welcome all ages and all ranges of writers, from beginning to seasoned professionals, working in any genre.<br />
<br />
Work at your own pace to develop your unique voice and style in a warm, multicultural workshop setting. Bring writing to share, write to prompts or just come and listen.<br />
<br />
Moderated by Shizue Seigel, Japanese American writer, artist and editor of the community anthologies <em>Civil Liberties United </em>(2019), <em>Endangered Species, Enduring Values</em> (2018) and <em>Standing Strong! Fillmore &amp; Japantown</em> (2016).</p>

LOCATION:Virtual Library
CLASS:PUBLIC
TRANSP:TRANSPARENT
END:VEVENT
BEGIN:VALARM
TRIGGER:-PT1440M
ACTION:DISPLAY
DESCRIPTION:Event Reminder - Workshop: The Hatchery, Nurturing Writers of Color
END:VALARM
END:VCALENDAR