BEGIN:VCALENDAR
VERSION:2.0
PRODID:SFPL Web Calendar
BEGIN:VEVENT
UID:32936@sfpl.org
DTSTAMP:20211117T190000Z
DTSTART:20211117T190000Z
DTEND:20211117T191500Z
SUMMARY:Storytime: Sweet Stories for Families Bilingual  華語/English
DESCRIPTION:<p>Bilingual 華語/English stories and songs for children and their families.</p>

<ul>
	<li>1st and 3rd Wednesdays in Cantonese 粵語課程</li>
	<li>2nd and 4th Wednesdays in Mandarin 國語課程</li>
</ul>

<p><br />
Tune in on&nbsp;<strong><a href="http://www.facebook.com/sfpl.org">Facebook</a></strong>.</p>

<p>Tip: You do not need a Facebook account to view a presentation when using the link, you can close any pop-up windows.</p>

<p>Learn&nbsp;more&nbsp;about&nbsp;storytimes&nbsp;with&nbsp;SFPL,&nbsp;including&nbsp;current&nbsp;offerings, at&nbsp;<a href="https://www.sfpl.org/storytime">sfpl.org/storytime</a>.&nbsp;&nbsp;&nbsp;</p>

LOCATION:Virtual Library
CLASS:PUBLIC
TRANSP:TRANSPARENT
END:VEVENT
BEGIN:VALARM
TRIGGER:-PT1440M
ACTION:DISPLAY
DESCRIPTION:Event Reminder - Storytime: Sweet Stories for Families Bilingual  華語/English
END:VALARM
END:VCALENDAR