BEGIN:VCALENDAR
VERSION:2.0
PRODID:SFPL Web Calendar
BEGIN:VEVENT
UID:32949@sfpl.org
DTSTAMP:20211023T180000Z
DTSTART:20211023T180000Z
DTEND:20211023T190000Z
SUMMARY:Presentation: Coexisting with Raccoons in the Bay Area
DESCRIPTION:<p>Megan Isadore, wildlife ecologist, will teach us all about the masked Bay Area resident, Raccoons, and how humans and raccoons can peacefully coexist. Isadore worked with raccoons as a wildlife rehabilitation specialist, has run a wildlife/human mediation advice line and now heads the <a href="https://riverotterecology.org/">River Otter Ecology Project</a>.</p>

<p><strong><a href="https://youtu.be/qaF3LXO56aw">Watch on YouTube.&nbsp;</a></strong></p>

<p>&nbsp;</p>

LOCATION:Virtual Library
CLASS:PUBLIC
TRANSP:TRANSPARENT
END:VEVENT
BEGIN:VALARM
TRIGGER:-PT1440M
ACTION:DISPLAY
DESCRIPTION:Event Reminder - Presentation: Coexisting with Raccoons in the Bay Area
END:VALARM
END:VCALENDAR