BEGIN:VCALENDAR
VERSION:2.0
PRODID:SFPL Web Calendar
BEGIN:VEVENT
UID:33353@sfpl.org
DTSTAMP:20211108T180000Z
DTSTART:20211108T180000Z
DTEND:20211108T181500Z
SUMMARY:Storytime: Sweet Stories for Babies
DESCRIPTION:<p>Stories, songs and rhymes for babies and their caregivers.</p>

<p>Tune in on <strong><a href="http://www.facebook.com/sfpl.org">Facebook</a></strong>.</p>

<p>Tip: You do not need a Facebook account to view a presentation when using the link, you can close any pop-up windows.</p>

LOCATION:Virtual Library
CLASS:PUBLIC
TRANSP:TRANSPARENT
END:VEVENT
BEGIN:VALARM
TRIGGER:-PT1440M
ACTION:DISPLAY
DESCRIPTION:Event Reminder - Storytime: Sweet Stories for Babies
END:VALARM
END:VCALENDAR