BEGIN:VCALENDAR
VERSION:2.0
PRODID:SFPL Web Calendar
BEGIN:VEVENT
UID:33489@sfpl.org
DTSTAMP:20211116T010000Z
DTSTART:20211116T010000Z
DTEND:20211116T023000Z
SUMMARY:青少年職業探索與大學專科工作坊 (甲班)
DESCRIPTION:<p>探索不同的職業機會、路徑和相關教育標準，以協助作出決定和評估選擇。根據您選擇的職業了解不同的學院和大專。座位有限。專為於三藩市居住或就讀的九至十二年級學生而設。</p>

<p>Study Smart Tutors 致力並熱衷於提供公平的大學和職業規劃，並盡量縮小機會的差距。</p>

<p>本虛擬節目僅在與主講者達成一致的情況下作一次性活動。請在我們的 <a href="http://youtube.com/sanfranciscolibrary">YouTube 頻道</a>上查看其他出色的圖書館節目。</p>

<p><a href="https://studysmart.us/">Study Smart Tutors 網址</a></p>

LOCATION:Virtual Library
CLASS:PUBLIC
TRANSP:TRANSPARENT
END:VEVENT
BEGIN:VALARM
TRIGGER:-PT1440M
ACTION:DISPLAY
DESCRIPTION:Event Reminder - 青少年職業探索與大學專科工作坊 (甲班)
END:VALARM
END:VCALENDAR