BEGIN:VCALENDAR
VERSION:2.0
PRODID:SFPL Web Calendar
BEGIN:VEVENT
UID:33490@sfpl.org
DTSTAMP:20211117T010000Z
DTSTART:20211117T010000Z
DTEND:20211117T020000Z
SUMMARY:Workshop: Introduction to Resume Building for Teens (Class A)
DESCRIPTION:<p>Examine the different components of a strong resume and begin an outline for a resume using a multitude of resources provided. Space limited. For 9th–12th graders who live or attend school in San Francisco.</p>

<p>Study Smart Tutors is committed to and passionate about providing equitable college and career programming to close opportunity gaps. Learn more about upcoming College and Life Skills workshops for teens with Study Smart Tutors.</p>

<p>This virtual program is offered as a one-time event only by agreement with the presenter(s). Please check out other outstanding Library programs on our <a href="http://youtube.com/sanfranciscolibrary">YouTube channel</a>.</p>

<p><a href="https://studysmart.us/">Study Smart Tutors - Website</a></p>

LOCATION:Virtual Library
CLASS:PUBLIC
TRANSP:TRANSPARENT
END:VEVENT
BEGIN:VALARM
TRIGGER:-PT1440M
ACTION:DISPLAY
DESCRIPTION:Event Reminder - Workshop: Introduction to Resume Building for Teens (Class A)
END:VALARM
END:VCALENDAR