BEGIN:VCALENDAR
VERSION:2.0
PRODID:SFPL Web Calendar
BEGIN:VEVENT
UID:33658@sfpl.org
DTSTAMP:20220205T193000Z
DTSTART:20220205T193000Z
DTEND:20220205T213000Z
SUMMARY:喜氣洋洋迎虎年
DESCRIPTION:<p>圖書館會以中國傳統藝術表演包括舞獅、德森學院 (Dasen&nbsp;American Academy) 的童聲獨唱、茶道、民族服裝表演、本地藝術家的京胡、聲樂獨奏及合唱等豐富節目，及來自三藩市藝術高中 (San Francisco High School of Arts) 的舞蹈及美藝合唱團 (MeiYi&nbsp;Choir Group) 的功夫扇舞和合唱與您同慶虎年。</p>

<p>本次活動由德森學院 (Dasen American Academy)、精武體育會 (Jing Mo Athletic Association)、 三藩市藝術高中 (San Francisco High School of Art )、美藝合唱團 (MeiYi Choir Group) 及三藩市公立圖書館華文中心 (Chinese Center) 合作舉辦。</p>

LOCATION:Main Library - Koret Auditorium
CLASS:PUBLIC
TRANSP:TRANSPARENT
END:VEVENT
BEGIN:VALARM
TRIGGER:-PT1440M
ACTION:DISPLAY
DESCRIPTION:Event Reminder - 喜氣洋洋迎虎年
END:VALARM
END:VCALENDAR