BEGIN:VCALENDAR
VERSION:2.0
PRODID:SFPL Web Calendar
BEGIN:VEVENT
UID:34167@sfpl.org
DTSTAMP:20211207T210000Z
DTSTART:20211207T210000Z
DTEND:20211207T230000Z
SUMMARY:Tutorial: Tech Help with the SF Tech Council
DESCRIPTION:<p>Representatives from the <a href="https://www.sftechcouncil.org/">SF Tech Council</a> and other San Francisco nonprofits offer help and information. Bring your technology questions and get one-on-one assistance, or just stop by and&nbsp;learn about free resources to&nbsp;help you get connected and comfortable.&nbsp;</p>
LOCATION:Main Library - Saroyan Area
CLASS:PUBLIC
TRANSP:TRANSPARENT
END:VEVENT
BEGIN:VALARM
TRIGGER:-PT1440M
ACTION:DISPLAY
DESCRIPTION:Event Reminder - Tutorial: Tech Help with the SF Tech Council
END:VALARM
END:VCALENDAR