BEGIN:VCALENDAR
VERSION:2.0
PRODID:SFPL Web Calendar
BEGIN:VEVENT
UID:34205@sfpl.org
DTSTAMP:20211207T030000Z
DTSTART:20211207T030000Z
DTEND:20211207T040000Z
SUMMARY:Author: Andreas Karelas, Climate Courage
DESCRIPTION:<p>Join Andreas Karelas as he discusses <em>Climate Courage</em>.</p>

<p><a href="https://sfpl.bibliocommons.com/v2/record/S93C4807862"><em><u>Climate Courage</u></em></a> shows us how we can move past our collective inaction on climate change and work together in our communities to create a more sustainable, just, clean energy&ndash;powered economy that works for everyone.</p>

<p>&nbsp;</p>

<p><a href="https://youtu.be/Bwg5c-v7QbA"><strong>Watch on YouTube.</strong></a></p>

<p>&nbsp;</p>

<p>Andreas Karelas is the founder and executive director of RE-volv, a nonprofit organization that empowers people around the country to help nonprofits in their communities go solar while raising awareness about the benefits of clean energy. He is a dedicated clean energy advocate, an Audubon TogetherGreen Conservation Leadership Fellow and an OpenIDEO Climate Innovator Fellow.&nbsp;</p>

<p>&nbsp;</p>

<p><strong>Connect</strong></p>

<p><a href="https://climatecourage.us/">Climate Courage - Website</a> | <a href="https://twitter.com/AndreasKarelas"><u>Andreas Karelas - Twitter</u></a></p>
LOCATION:Virtual Library
CLASS:PUBLIC
TRANSP:TRANSPARENT
END:VEVENT
BEGIN:VALARM
TRIGGER:-PT1440M
ACTION:DISPLAY
DESCRIPTION:Event Reminder - Author: Andreas Karelas, Climate Courage
END:VALARM
END:VCALENDAR