BEGIN:VCALENDAR
VERSION:2.0
PRODID:SFPL Web Calendar
BEGIN:VEVENT
UID:34414@sfpl.org
DTSTAMP:20211209T000000Z
DTSTART:20211209T000000Z
DTEND:20211209T010000Z
SUMMARY:Tutorial: Computer Skills Quick Start
DESCRIPTION:<p>Just getting started with computers? Join us to go over some of the basics. Come to any or all sessions. Space is limited. Weekly topics are listed below.&nbsp;</p>

<ul>
	<li>December 1: Using the mouse; opening files and programs</li>
	<li>December 8: Exploring the internet</li>
	<li>December 15: Uploading and downloading files&nbsp;</li>
</ul>
LOCATION:Main Library - Computer Training Center - 5th Fl
CLASS:PUBLIC
TRANSP:TRANSPARENT
END:VEVENT
BEGIN:VALARM
TRIGGER:-PT1440M
ACTION:DISPLAY
DESCRIPTION:Event Reminder - Tutorial: Computer Skills Quick Start
END:VALARM
END:VCALENDAR