BEGIN:VCALENDAR
VERSION:2.0
PRODID:SFPL Web Calendar
BEGIN:VEVENT
UID:37935@sfpl.org
DTSTAMP:20220605T180000Z
DTSTART:20220605T180000Z
DTEND:20220605T200000Z
SUMMARY:Performance: Sisters Across Oceans
DESCRIPTION:<p>A reading commemorating<em> Sisters Across Oceans</em>, featuring writing inspired by a poetry exchange between West Africa, Hawaii and California. &nbsp;</p>

<p>Poet-activist Karla Brundage, founder of <a href="https://westoaklandtowestafrica.com/">West Oakland to West Africa</a> (WO2WA) and editor of <a href="https://sfpl.bibliocommons.com/v2/search?query=Our+Spirits+Carry+Our+Voices%2C&searchType=title"><em>Our Spirits Carry Our Voices</em>,</a> expanded her original vision of connectivity across the African Diaspora to Hawaii. For this book she worked in&nbsp;collaboration with the Links Inc., Hawaii Chapter and Ehalakasa, a group of poets headquartered in Accra, Ghana. Many of the writers&nbsp;have been previously published, and all are outstandingly successful in the arts, their communities and their professions. &nbsp;</p>

<p><a href="https://www.youtube.com/watch?v=3XulDPFdPzU"><u>Watch on YouTube</u></a></p>

<p><a href="https://www.karlabrundage.com/">Karla Brundage</a> is a Bay Area based poet, activist and educator with a passion for social justice. She believes that in order to restore balance and to reclaim our humanity as Black people, racist structures that uphold this belief, must be dismantled. Her writing is primarily for Black women and people disenfranchised by poverty, abuse, neglect or violence. She is the founder of West Oakland to West Africa.&nbsp;</p>
LOCATION:Virtual Library
CLASS:PUBLIC
TRANSP:TRANSPARENT
END:VEVENT
BEGIN:VALARM
TRIGGER:-PT1440M
ACTION:DISPLAY
DESCRIPTION:Event Reminder - Performance: Sisters Across Oceans
END:VALARM
END:VCALENDAR