BEGIN:VCALENDAR
VERSION:2.0
PRODID:SFPL Web Calendar
BEGIN:VEVENT
UID:38931@sfpl.org
DTSTAMP:20220618T200000Z
DTSTART:20220618T200000Z
DTEND:20220618T213000Z
SUMMARY:Author: Robert Elias, Major League Rebels: Baseball Radicals On & Off the Field
DESCRIPTION:<p>While Major League Baseball has a well deserved reputation for being the&nbsp;most conservative of America's major sports, there's a hidden history of rebellion in organized baseball.&nbsp; A number of ball players and&nbsp;others&nbsp;connected to the&nbsp;sport have spoken out and&nbsp;resisted and&nbsp;acted to protest injustices&nbsp;both on and off the field for issues of race, gender, sexuality, workers rights and American Empire. In their newly published books, <em>Major League Rebels</em> and <em>Baseball Rebels</em>, <a href="https://sfpl.bibliocommons.com/v2/search?query=Elias%2C+Robert&searchType=author">Rob Elias</a> and and his co-author Peter Dreier, chronicle the&nbsp;hidden history of these baseball radicals, some of whom are profiled in this talk. The speaker at this talk is&nbsp;Rob Elias, Dean's Scholar and Professor of Politics at the&nbsp;University of San Francisco&nbsp; His previous baseball books include <em><a href="https://sfpl.bibliocommons.com/v2/record/S93C2329681">The Empire Strikes Out</a></em>, <em><a href="https://sfpl.bibliocommons.com/v2/record/S93C2005984">The Deadly Tools of Ignorance</a></em> and<em>&nbsp;Baseball and the American Dream.&nbsp;</em>&nbsp; &nbsp;Sponsored by Society for American Baseball Research (SABR).</p>

<p>&nbsp;</p>
LOCATION:Main Library - Latino/Hispanic Meeting Room B
CLASS:PUBLIC
TRANSP:TRANSPARENT
END:VEVENT
BEGIN:VALARM
TRIGGER:-PT1440M
ACTION:DISPLAY
DESCRIPTION:Event Reminder - Author: Robert Elias, Major League Rebels: Baseball Radicals On & Off the Field
END:VALARM
END:VCALENDAR