BEGIN:VCALENDAR
VERSION:2.0
PRODID:SFPL Web Calendar
BEGIN:VEVENT
UID:42271@sfpl.org
DTSTAMP:20220814T220000Z
DTSTART:20220814T220000Z
DTEND:20220814T233000Z
SUMMARY:Film: Happy Birthday, Marsha! and Screaming Queens
DESCRIPTION:<p>August is Transgender History Month in San Francisco. Let's celebrate the transgender activists who paved the way for all us to be more free with two acclaimed films.</p>

<p><em>Happy Birthday, Marsha!</em> is a film about iconic transgender artist and activist, Marsha "Pay it No Mind" Johnson, and her life in the hours before she ignited the 1969 Stonewall Riots in New York City.</p>

<p>Not Rated, 14min., 2017</p>

<p><em>Screaming Queens: The Riot at Compton's Cafeteria</em> tells the little-known story of the first known act of collective, violent resistance to the social oppression of queer people in the United States - a 1966 riot in San Francisco's Tenderloin neighborhood, three years before the famous gay riot at New York's Stonewall Inn.</p>

<p>Not Rated, 56 min., 2005</p>
LOCATION:Main Library - Koret Auditorium
CLASS:PUBLIC
TRANSP:TRANSPARENT
END:VEVENT
BEGIN:VALARM
TRIGGER:-PT1440M
ACTION:DISPLAY
DESCRIPTION:Event Reminder - Film: Happy Birthday, Marsha! and Screaming Queens
END:VALARM
END:VCALENDAR