BEGIN:VCALENDAR
VERSION:2.0
PRODID:SFPL Web Calendar
BEGIN:VEVENT
UID:45175@sfpl.org
DTSTAMP:20230506T200000Z
DTSTART:20230506T200000Z
DTEND:20230507T000000Z
SUMMARY:Celebration: Richmond Branch Open House
DESCRIPTION:<p>Come to the Richmond Branch to celebrate community. Stop in to our&nbsp;Open&nbsp;House&nbsp;Saturday, May 6,&nbsp; between 1pm-5pm to meet or reacquaint yourselves with our vibrant Inner Richmond (and beyond) community.&nbsp;</p>
LOCATION:Richmond/Senator Milton Marks - Richmond 10th Avenue Playground
CLASS:PUBLIC
TRANSP:TRANSPARENT
END:VEVENT
BEGIN:VALARM
TRIGGER:-PT1440M
ACTION:DISPLAY
DESCRIPTION:Event Reminder - Celebration: Richmond Branch Open House
END:VALARM
END:VCALENDAR