BEGIN:VCALENDAR
VERSION:2.0
PRODID:SFPL Web Calendar
BEGIN:VEVENT
UID:47232@sfpl.org
DTSTAMP:20230425T233000Z
DTSTART:20230425T233000Z
DTEND:20230426T003000Z
SUMMARY:Activity: CD Art
DESCRIPTION:<p>Reuse those old scratched CDs and DVDs to make art.&nbsp; Add your own flair and creativity to decorate your home. For ages 10&ndash;18.&nbsp;</p>
LOCATION:North Beach - North Beach General Floor Area
CLASS:PUBLIC
TRANSP:TRANSPARENT
END:VEVENT
BEGIN:VALARM
TRIGGER:-PT1440M
ACTION:DISPLAY
DESCRIPTION:Event Reminder - Activity: CD Art
END:VALARM
END:VCALENDAR