BEGIN:VCALENDAR
VERSION:2.0
PRODID:SFPL Web Calendar
BEGIN:VEVENT
UID:47613@sfpl.org
DTSTAMP:20230510T220000Z
DTSTART:20230510T220000Z
DTEND:20230510T230000Z
SUMMARY:Book Club: Cozy Capers & Mysteries
DESCRIPTION:<p>A monthly discussion on crime novels featuring amateur sleuths, quirky characters and homey communities. This month's novel, <a href="https://sfpl.bibliocommons.com/v2/record/S93C4766823"><em>Arsenic and Adobo</em></a> by Mia P. Manansala, follows baker Lila Macapagal as she investigates the murder of her ex-boyfriend, the town's too-mean food critic, after he dies over a meal in her aunt's flailing Filipino restaurant. Armed with her network of aunties, her barista best bud and her trusted Dachshund, Longanisa, Lila takes on this tasty, twisted case.&nbsp;</p>
LOCATION:Presidio - Presidio Meeting Room
CLASS:PUBLIC
TRANSP:TRANSPARENT
END:VEVENT
BEGIN:VALARM
TRIGGER:-PT1440M
ACTION:DISPLAY
DESCRIPTION:Event Reminder - Book Club: Cozy Capers & Mysteries
END:VALARM
END:VCALENDAR