BEGIN:VCALENDAR
VERSION:2.0
PRODID:SFPL Web Calendar
BEGIN:VEVENT
UID:48171@sfpl.org
DTSTAMP:20230427T210000Z
DTSTART:20230427T210000Z
DTEND:20230427T223000Z
SUMMARY:Activity: Wine Cork Succulent / 手作：酒塞迷你盆栽
DESCRIPTION:<p>Create a mini terrarium from a succulent, wine cork and magnet. &nbsp;<br />
Space limited. Reservations required: (415) 355-2888 (starting April 1).</p>

<p>用多肉植物、葡萄酒塞及磁鐵為材，創造出一個精緻微型的懸浮花園。名額有限，需提前預約：(415) 355-2888。&nbsp;</p>
LOCATION:Chinatown/Him Mark Lai - Chinatown Meeting Room
CLASS:PUBLIC
TRANSP:TRANSPARENT
END:VEVENT
BEGIN:VALARM
TRIGGER:-PT1440M
ACTION:DISPLAY
DESCRIPTION:Event Reminder - Activity: Wine Cork Succulent / 手作：酒塞迷你盆栽
END:VALARM
END:VCALENDAR