BEGIN:VCALENDAR
VERSION:2.0
PRODID:SFPL Web Calendar
BEGIN:VEVENT
UID:48764@sfpl.org
DTSTAMP:20230513T180000Z
DTSTART:20230513T180000Z
DTEND:20230513T220000Z
SUMMARY:Celebration: Open House
DESCRIPTION:<p>Celebrate the Golden Gate Valley Library's 105th anniversary, 1918 to 2023.</p>

<p>Enjoy food, button making, a visit from a SFFD fire truck, a West African Drumming performance with Keenan Webster&nbsp;and coaster making with GoGo Craft. We will also have a 45-minute tour of the neighborhood with City Guides beginning and ending at the library.</p>
LOCATION:Golden Gate Valley - Golden Gate Valley Meeting Room
CLASS:PUBLIC
TRANSP:TRANSPARENT
END:VEVENT
BEGIN:VALARM
TRIGGER:-PT1440M
ACTION:DISPLAY
DESCRIPTION:Event Reminder - Celebration: Open House
END:VALARM
END:VCALENDAR