BEGIN:VCALENDAR
VERSION:2.0
PRODID:SFPL Web Calendar
BEGIN:VEVENT
UID:49188@sfpl.org
DTSTAMP:20230125T200000Z
DTSTART:20230125T200000Z
DTEND:20230125T210000Z
SUMMARY:Presentation: Become a San Francisco Green Business
DESCRIPTION:<p>Learn how to become a Green Business in San Francisco.&nbsp; It's free!&nbsp; Benefits include:</p>

<ul>
	<li>Get connected to incentives, free technical assistance, expert audits, rebates, and educational resources</li>
	<li>Save money and attract more customers</li>
	<li>Showcase your greening practices to other businesses, customers, and the larger community</li>
</ul>

<p>Presented by the San Francisco Department of the Environment.</p>

<p>Connect:&nbsp;<a href="https://sfenvironment.org/sfgreenbusiness">San Francisco Department of the Environment (SF Environment) - Website</a></p>
LOCATION:Main Library - Latino/Hispanic Meeting Room B
CLASS:PUBLIC
TRANSP:TRANSPARENT
END:VEVENT
BEGIN:VALARM
TRIGGER:-PT1440M
ACTION:DISPLAY
DESCRIPTION:Event Reminder - Presentation: Become a San Francisco Green Business
END:VALARM
END:VCALENDAR