BEGIN:VCALENDAR
VERSION:2.0
PRODID:SFPL Web Calendar
BEGIN:VEVENT
UID:51840@sfpl.org
DTSTAMP:20231012T190000Z
DTSTART:20231012T190000Z
DTEND:20231012T210000Z
SUMMARY:Film: Bitter Melon
DESCRIPTION:<p>In this tragicomic twist on a "home for the holidays" movie, a Filipino-American family plots to kill an abusive member. Written and directed by Bay Area local filmmaker, H.P. Mendoza (<em>Colma: The Musical</em>).</p>

<p>Director: H.P. Mendoza</p>

<p>Stars: Jon Norman Schneider, Patrick Epino, Brian Rivera</p>

<p>Rated: NR, 110 mins., 2018. Closed captions (CC) in English.</p>
LOCATION:Main Library - Koret Auditorium
CLASS:PUBLIC
TRANSP:TRANSPARENT
END:VEVENT
BEGIN:VALARM
TRIGGER:-PT1440M
ACTION:DISPLAY
DESCRIPTION:Event Reminder - Film: Bitter Melon
END:VALARM
END:VCALENDAR