BEGIN:VCALENDAR
VERSION:2.0
PRODID:SFPL Web Calendar
BEGIN:VEVENT
UID:51848@sfpl.org
DTSTAMP:20231214T200000Z
DTSTART:20231214T200000Z
DTEND:20231214T220000Z
SUMMARY:Film: A Christmas Story
DESCRIPTION:<p>In the 1940s, a young boy named Ralphie Parker attempts to convince his parents, teacher, and Santa Claus that a Red Ryder Range 200 Shot BB gun really is the perfect Christmas gift.</p>

<p>Director: Bob Clark</p>

<p>Stars: Peter Billingsley, Melinda Dillon, Darren McGavin</p>

<p>Rated: NR, 93&nbsp;mins., 1983. Closed captions (CC) in English.</p>
LOCATION:Main Library - Latino/Hispanic Meeting Room A
CLASS:PUBLIC
TRANSP:TRANSPARENT
END:VEVENT
BEGIN:VALARM
TRIGGER:-PT1440M
ACTION:DISPLAY
DESCRIPTION:Event Reminder - Film: A Christmas Story
END:VALARM
END:VCALENDAR