BEGIN:VCALENDAR
VERSION:2.0
PRODID:SFPL Web Calendar
BEGIN:VEVENT
UID:51852@sfpl.org
DTSTAMP:20240111T200000Z
DTSTART:20240111T200000Z
DTEND:20240111T220000Z
SUMMARY:Film: Pee-Wee's Big Adventure
DESCRIPTION:<p>When eccentric man-child Pee-wee Herman gets his beloved bike stolen in broad daylight, he sets out across the U.S. on the adventure of his life.</p>

<p>Director: Tim Burton</p>

<p>Stars: Paul Reubens, Elizabeth Daily, Mark Holton.</p>

<p>Rated: PG, 91&nbsp;mins., 1985. Closed captions (CC) in English.</p>
LOCATION:Main Library - Latino/Hispanic Meeting Room A
CLASS:PUBLIC
TRANSP:TRANSPARENT
END:VEVENT
BEGIN:VALARM
TRIGGER:-PT1440M
ACTION:DISPLAY
DESCRIPTION:Event Reminder - Film: Pee-Wee's Big Adventure
END:VALARM
END:VCALENDAR