BEGIN:VCALENDAR
VERSION:2.0
PRODID:SFPL Web Calendar
BEGIN:VEVENT
UID:52031@sfpl.org
DTSTAMP:20230227T223000Z
DTSTART:20230227T223000Z
DTEND:20230227T231500Z
SUMMARY:Postponed: Storytelling with Clara Kamunde
DESCRIPTION:<p><strong><em>This program has been postponed, date to be determined. Thank you for your interest in our programs.</em></strong></p>
LOCATION:Portola - Portola Meeting Room
CLASS:PUBLIC
TRANSP:TRANSPARENT
END:VEVENT
BEGIN:VALARM
TRIGGER:-PT1440M
ACTION:DISPLAY
DESCRIPTION:Event Reminder - Postponed: Storytelling with Clara Kamunde
END:VALARM
END:VCALENDAR