BEGIN:VCALENDAR
VERSION:2.0
PRODID:SFPL Web Calendar
BEGIN:VEVENT
UID:52197@sfpl.org
DTSTAMP:20230524T013000Z
DTSTART:20230524T013000Z
DTEND:20230524T023000Z
SUMMARY:Presentation: Re-frame Chinese Art and Culture in the American Context
DESCRIPTION:<p>Discover the fascinating, hidden meanings in Chinese art. Learn how lion dancing and firecrackers ward off evil spirits and the meanings of all the rituals at Chinese weddings and funerals. Our presenter will explore and explain all these cultural elements, traditions and rituals in the American context.<br />
<br />
<strong>About our presenter: </strong></p>

<p>Born in Taiwan with Cantonese parents, David Y. Lei, 李萱頤, has lived in the Bay Area since 1956. He attended public schools and graduated from UC Berkeley in 1972 with a business degree. Lei worked as a social worker in San Francisco&rsquo;s Chinatown with at-risk youths for many years. He has given various talks on Chinese American history and culture at The Commonwealth Club, California Historical Society, Asian Art Museum, Chinese Culture Center, San Francisco Main Library and was a commencement speaker to UC Berkeley's class of 2019 at Memorial Stadium. Lei remains as active in the community ever, working to introduce sustainable funding models to community-based organizations. He feels that it is imperative to interpret Chinese American history and Chinese art and culture in the American context.<br />
&nbsp;</p>
LOCATION:Virtual Library
CLASS:PUBLIC
TRANSP:TRANSPARENT
END:VEVENT
BEGIN:VALARM
TRIGGER:-PT1440M
ACTION:DISPLAY
DESCRIPTION:Event Reminder - Presentation: Re-frame Chinese Art and Culture in the American Context
END:VALARM
END:VCALENDAR