BEGIN:VCALENDAR
VERSION:2.0
PRODID:SFPL Web Calendar
BEGIN:VEVENT
UID:54362@sfpl.org
DTSTAMP:20230514T210000Z
DTSTART:20230514T210000Z
DTEND:20230514T220000Z
SUMMARY:Book Club: Life Stories - Stay True by Hua Hsu
DESCRIPTION:<p>We discuss&nbsp;friendship, Berkeley in the 1990s, grief, the search for self and the solace that can be found through art with May's selection, <em>Stay True </em>by Hua Hsu.&nbsp;</p>

<p><a href="https://sfpl.bibliocommons.com/list/share/2094054219/2223159539">Life Stories Book Club reading list</a>. Explore the lived experiences of others through biographies, memoirs and personal essays.</p>
LOCATION:Main Library - Martin Paley Conference Room - 3rd Fl
CLASS:PUBLIC
TRANSP:TRANSPARENT
END:VEVENT
BEGIN:VALARM
TRIGGER:-PT1440M
ACTION:DISPLAY
DESCRIPTION:Event Reminder - Book Club: Life Stories - Stay True by Hua Hsu
END:VALARM
END:VCALENDAR