BEGIN:VCALENDAR
VERSION:2.0
PRODID:SFPL Web Calendar
BEGIN:VEVENT
UID:55914@sfpl.org
DTSTAMP:20230525T003000Z
DTSTART:20230525T003000Z
DTEND:20230525T021500Z
SUMMARY:Film: Dim Sum: A Little Bit Of Heart
DESCRIPTION:<p>In San Francisco, a Chinese immigrant, who is a widow, faces the New Year with apprehension after it was foretold that it would be the year she would die. All of the things she wants to do before she dies come into focus, including seeing her daughter married and visiting China one last time to pay her respects. Directed by Wayne Wang (<em>Chan is Missing</em>). Rotten Tomatoes rating of 88%.</p>

<p>NR, 86 min., 1985. Closed captions (CC) in English.</p>
LOCATION:Richmond/Senator Milton Marks - Richmond Meeting Room
CLASS:PUBLIC
TRANSP:TRANSPARENT
END:VEVENT
BEGIN:VALARM
TRIGGER:-PT1440M
ACTION:DISPLAY
DESCRIPTION:Event Reminder - Film: Dim Sum: A Little Bit Of Heart
END:VALARM
END:VCALENDAR