BEGIN:VCALENDAR
VERSION:2.0
PRODID:SFPL Web Calendar
BEGIN:VEVENT
UID:57116@sfpl.org
DTSTAMP:20230504T233000Z
DTSTART:20230504T233000Z
DTEND:20230505T011500Z
SUMMARY:Film: On the Beach at Night Alone
DESCRIPTION:<p>Kim Minhee (<em>The Handmaiden</em>, <em>Claire's Camera</em>) plays Younghee, an actress reeling in the aftermath of an affair with a married film director. Younghee visits Hamburg then returns to Korea, but as she meets with friends and has her fair share to drink, increasingly startling confessions emerge. Directed by internationally acclaimed Hong Sang-soo. Rotten Tomatoes rating of 92%.</p>

<p>"It's more than worth seeing for Kim's exposed nerve endings alone, and also for the way in which Hong's typically playful sensibility seems to tilt at times into a surreal, menacing strangeness." &mdash; Justin Chang, Los Angeles Times</p>

<p>NR, 100 min., 2017. Closed captions (CC) in English.</p>

<p>&nbsp;</p>

<p>&nbsp;</p>

<p>&nbsp;</p>
LOCATION:Richmond/Senator Milton Marks - Richmond Meeting Room
CLASS:PUBLIC
TRANSP:TRANSPARENT
END:VEVENT
BEGIN:VALARM
TRIGGER:-PT1440M
ACTION:DISPLAY
DESCRIPTION:Event Reminder - Film: On the Beach at Night Alone
END:VALARM
END:VCALENDAR