BEGIN:VCALENDAR
VERSION:2.0
PRODID:SFPL Web Calendar
BEGIN:VEVENT
UID:57183@sfpl.org
DTSTAMP:20230729T173000Z
DTSTART:20230729T173000Z
DTEND:20230729T190000Z
SUMMARY:CANCELLED Workshop: Mandarin for Beginners
DESCRIPTION:<p><em><strong>This program is rescheduled for Friday July 28th from 2 - 3:30 PM.</strong></em></p>

<p>Learn basic Mandarin and Chinese culture. For ages 5-12. Space limited. Registration required and open starting May 1. Please call: 415-355-5717.</p>

<p>There will be six sessions: June 17, June 24, July 8, July 15, July 22, and July 29 from 10:30 a.m. to 12:00 p.m.</p>

<p>每堂課中，我們會學習基本的國語。免費教授，並提供所有學習教材。有意者, 請在五月一日開始致電 415-355-5717 報名。</p>

<p>由專業導師授課。歡迎任何五到十二歲的兒童與家人一起參加。</p>

<p>整個課程有六節課：在 6/17, 6/24, 7/8, 7/15, 7/22, 7/29上午 10:30 至 中午12:00时。</p>

<p>This program is provided by a partnership with the Education Division of the Taipei Economic and Cultural Office in San Francisco, Taiwan Center for Mandarin Learning, Chinese Cultural Learning Center and Anza Branch Library.</p>

<p>本課程由駐三藩市台北經濟文化辦事處教育組, 北加中華文化學習中心及三藩市公立圖書館Anza分館合作提供。</p>
LOCATION:Anza - Anza Meeting Room
CLASS:PUBLIC
TRANSP:TRANSPARENT
END:VEVENT
BEGIN:VALARM
TRIGGER:-PT1440M
ACTION:DISPLAY
DESCRIPTION:Event Reminder - CANCELLED Workshop: Mandarin for Beginners
END:VALARM
END:VCALENDAR