BEGIN:VCALENDAR
VERSION:2.0
PRODID:SFPL Web Calendar
BEGIN:VEVENT
UID:57323@sfpl.org
DTSTAMP:20230429T220000Z
DTSTART:20230429T220000Z
DTEND:20230429T230000Z
SUMMARY:Social: Children's Book Swap
DESCRIPTION:<p>Bring your used children's books to exchange with other readers. All types of books for ages 0-12 are welcome. Please bring one grocery store paper bag maximum per family. If any books are leftover after the swap, they will be donated to the Friends of the San Francisco Public Library. For questions, call (415) 355-2818.</p>
LOCATION:Sunset - Sunset Program Room
CLASS:PUBLIC
TRANSP:TRANSPARENT
END:VEVENT
BEGIN:VALARM
TRIGGER:-PT1440M
ACTION:DISPLAY
DESCRIPTION:Event Reminder - Social: Children's Book Swap
END:VALARM
END:VCALENDAR