BEGIN:VCALENDAR
VERSION:2.0
PRODID:SFPL Web Calendar
BEGIN:VEVENT
UID:57482@sfpl.org
DTSTAMP:20230511T200000Z
DTSTART:20230511T200000Z
DTEND:20230511T210000Z
SUMMARY:Workshop: Saving with Purpose
DESCRIPTION:<p>Choose the right goals for saving money and overcome barriers to achieving them.&nbsp;</p>

<p>This is Part II of a three-part series from the San Francisco Office of Empowerment.&nbsp;</p>

<p><a href="https://sfgov.org/ofe/">San Francisco Office of Financial Empowerment&nbsp;</a></p>
LOCATION:Virtual Library
CLASS:PUBLIC
TRANSP:TRANSPARENT
END:VEVENT
BEGIN:VALARM
TRIGGER:-PT1440M
ACTION:DISPLAY
DESCRIPTION:Event Reminder - Workshop: Saving with Purpose
END:VALARM
END:VCALENDAR