BEGIN:VCALENDAR
VERSION:2.0
PRODID:SFPL Web Calendar
BEGIN:VEVENT
UID:57499@sfpl.org
DTSTAMP:20230723T210000Z
DTSTART:20230723T210000Z
DTEND:20230723T223000Z
SUMMARY:Book Club: Marina Readers
DESCRIPTION:<p>We will be discussing&nbsp;<em><a href="https://sfpl.bibliocommons.com/v2/record/S93C1146540">One Flew Over the Cuckoo's Nest</a></em> by Ken Kesey. Meetings are held&nbsp;the fourth Sunday of every month.&nbsp;</p>

<p><a href="https://sfpl.bibliocommons.com/list/share/388353987/1385570737">Marina Branch Book Club reading list</a></p>
LOCATION:Marina - Marina Back Courtyard
CLASS:PUBLIC
TRANSP:TRANSPARENT
END:VEVENT
BEGIN:VALARM
TRIGGER:-PT1440M
ACTION:DISPLAY
DESCRIPTION:Event Reminder - Book Club: Marina Readers
END:VALARM
END:VCALENDAR