BEGIN:VCALENDAR
VERSION:2.0
PRODID:SFPL Web Calendar
BEGIN:VEVENT
UID:57519@sfpl.org
DTSTAMP:20230430T210000Z
DTSTART:20230430T210000Z
DTEND:20230430T214500Z
SUMMARY:Performance: Kathak Dance with SF Kala Kendra
DESCRIPTION:<p>Learn about&nbsp;Kathak&nbsp;dance, one of the eight major forms of Indian classical dance. Participate and learn a few moves from this centuries-old North Indian art form.</p>

<p>Connect:&nbsp;</p>

<p><a href="http://www.sfkalakendra.com/">SF Kala Kendra - Website</a></p>
LOCATION:Park - Park Meeting Room
CLASS:PUBLIC
TRANSP:TRANSPARENT
END:VEVENT
BEGIN:VALARM
TRIGGER:-PT1440M
ACTION:DISPLAY
DESCRIPTION:Event Reminder - Performance: Kathak Dance with SF Kala Kendra
END:VALARM
END:VCALENDAR