BEGIN:VCALENDAR
VERSION:2.0
PRODID:SFPL Web Calendar
BEGIN:VEVENT
UID:57575@sfpl.org
DTSTAMP:20230426T220000Z
DTSTART:20230426T220000Z
DTEND:20230426T233000Z
SUMMARY:Film: Cast a Dark Shadow
DESCRIPTION:<p>A charming rogue whose older and much richer wife has just unexpectedly died decides to remarry&mdash;but will the new bride meet a similar fate? <a href="https://en.wikipedia.org/wiki/Cast_a_Dark_Shadow"><em>Cast a Dark Shadow</em></a> is a classic&nbsp;British noir thriller starring <a href="https://en.wikipedia.org/wiki/Dirk_Bogarde">Dirk Bogarde</a> and <a href="https://en.wikipedia.org/wiki/Margaret_Lockwood">Margaret Lockwood</a>. Not Rated, 82&nbsp;minutes, 1955. Closed Captioned (CC) in English.</p>
LOCATION:Golden Gate Valley - Golden Gate Valley Meeting Room
CLASS:PUBLIC
TRANSP:TRANSPARENT
END:VEVENT
BEGIN:VALARM
TRIGGER:-PT1440M
ACTION:DISPLAY
DESCRIPTION:Event Reminder - Film: Cast a Dark Shadow
END:VALARM
END:VCALENDAR