BEGIN:VCALENDAR
VERSION:2.0
PRODID:SFPL Web Calendar
BEGIN:VEVENT
UID:57782@sfpl.org
DTSTAMP:20230428T014500Z
DTSTART:20230428T014500Z
DTEND:20230428T024500Z
SUMMARY:Book Club: Mother-Daughter, Johnnie Christmas' Swim Team
DESCRIPTION:<p>Discussing Johnnie Christmas' <em><a href="https://sfpl.bibliocommons.com/v2/record/S93C5246119">Swim Team</a></em>, a graphic novel about moving to swim-obsessed Florida with your dad when you don't like swimming. For girls ages 9&ndash;12 with a favorite adult.</p>

<p><a href="https://sfpl.bibliocommons.com/list/share/386267898_sfpl_westportallib/478146975_sfpl_west_portal_mother-daughter_book_group_suggested_titles?page=3">SFPL West Portal Mother-Daughter Book Club Suggested Titles</a></p>
LOCATION:West Portal - West Portal Children's Area
CLASS:PUBLIC
TRANSP:TRANSPARENT
END:VEVENT
BEGIN:VALARM
TRIGGER:-PT1440M
ACTION:DISPLAY
DESCRIPTION:Event Reminder - Book Club: Mother-Daughter, Johnnie Christmas' Swim Team
END:VALARM
END:VCALENDAR